Workbook

Sheet Total
C1: Score 1 - 5 (1 = does not meet expectations, 3 = meets expectations, 5 = exceeds expectations)
A2: Category | B2: Criteria | C2: [COMPANY 1 NAME] | D2: [COMPANY 2 NAME] | E2: [COMPANY 3 NAME] | F2: [COMPANY 4 NAME] | G2: [COMPANY 5 NAME] | H2: [COMPANY 6 NAME]
A3: Understanding of Needs | B3: Demonstrates clear grasp of project goals, challenges, and desired outcomes | C3: =AVERAGE('Stakeholder 1'!C3,'Stakeholder 2'!C3,'Stakeholder 3'!C3,'Stakeholder 4'!C3,'Stakeholder 5'!C3) -> #DIV/0! | D3: =AVERAGE('Stakeholder 1'!D3,'Stakeholder 2'!D3,'Stakeholder 3'!D3,'Stakeholder 4'!D3,'Stakeholder 5'!D3) -> #DIV/0! | E3: =AVERAGE('Stakeholder 1'!E3,'Stakeholder 2'!E3,'Stakeholder 3'!E3,'Stakeholder 4'!E3,'Stakeholder 5'!E3) -> #DIV/0! | F3: =AVERAGE('Stakeholder 1'!F3,'Stakeholder 2'!F3,'Stakeholder 3'!F3,'Stakeholder 4'!F3,'Stakeholder 5'!F3) -> #DIV/0! | G3: =AVERAGE('Stakeholder 1'!G3,'Stakeholder 2'!G3,'Stakeholder 3'!G3,'Stakeholder 4'!G3,'Stakeholder 5'!G3) -> #DIV/0! | H3: =AVERAGE('Stakeholder 1'!H3,'Stakeholder 2'!H3,'Stakeholder 3'!H3,'Stakeholder 4'!H3,'Stakeholder 5'!H3) -> #DIV/0!
A4: Industry Experience | B4: Proven success with associations and projects of similar scale | C4: =AVERAGE('Stakeholder 1'!C4,'Stakeholder 2'!C4,'Stakeholder 3'!C4,'Stakeholder 4'!C4,'Stakeholder 5'!C4) -> #DIV/0! | D4: =AVERAGE('Stakeholder 1'!D4,'Stakeholder 2'!D4,'Stakeholder 3'!D4,'Stakeholder 4'!D4,'Stakeholder 5'!D4) -> #DIV/0! | E4: =AVERAGE('Stakeholder 1'!E4,'Stakeholder 2'!E4,'Stakeholder 3'!E4,'Stakeholder 4'!E4,'Stakeholder 5'!E4) -> #DIV/0! | F4: =AVERAGE('Stakeholder 1'!F4,'Stakeholder 2'!F4,'Stakeholder 3'!F4,'Stakeholder 4'!F4,'Stakeholder 5'!F4) -> #DIV/0! | G4: =AVERAGE('Stakeholder 1'!G4,'Stakeholder 2'!G4,'Stakeholder 3'!G4,'Stakeholder 4'!G4,'Stakeholder 5'!G4) -> #DIV/0! | H4: =AVERAGE('Stakeholder 1'!H4,'Stakeholder 2'!H4,'Stakeholder 3'!H4,'Stakeholder 4'!H4,'Stakeholder 5'!H4) -> #DIV/0!
A5: Strategic Approach | B5: Insightful, tailored methodology; allows for collaboration and evolution | C5: =AVERAGE('Stakeholder 1'!C5,'Stakeholder 2'!C5,'Stakeholder 3'!C5,'Stakeholder 4'!C5,'Stakeholder 5'!C5) -> #DIV/0! | D5: =AVERAGE('Stakeholder 1'!D5,'Stakeholder 2'!D5,'Stakeholder 3'!D5,'Stakeholder 4'!D5,'Stakeholder 5'!D5) -> #DIV/0! | E5: =AVERAGE('Stakeholder 1'!E5,'Stakeholder 2'!E5,'Stakeholder 3'!E5,'Stakeholder 4'!E5,'Stakeholder 5'!E5) -> #DIV/0! | F5: =AVERAGE('Stakeholder 1'!F5,'Stakeholder 2'!F5,'Stakeholder 3'!F5,'Stakeholder 4'!F5,'Stakeholder 5'!F5) -> #DIV/0! | G5: =AVERAGE('Stakeholder 1'!G5,'Stakeholder 2'!G5,'Stakeholder 3'!G5,'Stakeholder 4'!G5,'Stakeholder 5'!G5) -> #DIV/0! | H5: =AVERAGE('Stakeholder 1'!H5,'Stakeholder 2'!H5,'Stakeholder 3'!H5,'Stakeholder 4'!H5,'Stakeholder 5'!H5) -> #DIV/0!
A6: Design Expertise | B6: Quality of design work, accessibility focus, usability process | C6: =AVERAGE('Stakeholder 1'!C6,'Stakeholder 2'!C6,'Stakeholder 3'!C6,'Stakeholder 4'!C6,'Stakeholder 5'!C6) -> #DIV/0! | D6: =AVERAGE('Stakeholder 1'!D6,'Stakeholder 2'!D6,'Stakeholder 3'!D6,'Stakeholder 4'!D6,'Stakeholder 5'!D6) -> #DIV/0! | E6: =AVERAGE('Stakeholder 1'!E6,'Stakeholder 2'!E6,'Stakeholder 3'!E6,'Stakeholder 4'!E6,'Stakeholder 5'!E6) -> #DIV/0! | F6: =AVERAGE('Stakeholder 1'!F6,'Stakeholder 2'!F6,'Stakeholder 3'!F6,'Stakeholder 4'!F6,'Stakeholder 5'!F6) -> #DIV/0! | G6: =AVERAGE('Stakeholder 1'!G6,'Stakeholder 2'!G6,'Stakeholder 3'!G6,'Stakeholder 4'!G6,'Stakeholder 5'!G6) -> #DIV/0! | H6: =AVERAGE('Stakeholder 1'!H6,'Stakeholder 2'!H6,'Stakeholder 3'!H6,'Stakeholder 4'!H6,'Stakeholder 5'!H6) -> #DIV/0!
A7: Technical Expertise | B7: CMS experience, integration knowledge (AMS, LMS, etc.), scalable solutions | C7: =AVERAGE('Stakeholder 1'!C7,'Stakeholder 2'!C7,'Stakeholder 3'!C7,'Stakeholder 4'!C7,'Stakeholder 5'!C7) -> #DIV/0! | D7: =AVERAGE('Stakeholder 1'!D7,'Stakeholder 2'!D7,'Stakeholder 3'!D7,'Stakeholder 4'!D7,'Stakeholder 5'!D7) -> #DIV/0! | E7: =AVERAGE('Stakeholder 1'!E7,'Stakeholder 2'!E7,'Stakeholder 3'!E7,'Stakeholder 4'!E7,'Stakeholder 5'!E7) -> #DIV/0! | F7: =AVERAGE('Stakeholder 1'!F7,'Stakeholder 2'!F7,'Stakeholder 3'!F7,'Stakeholder 4'!F7,'Stakeholder 5'!F7) -> #DIV/0! | G7: =AVERAGE('Stakeholder 1'!G7,'Stakeholder 2'!G7,'Stakeholder 3'!G7,'Stakeholder 4'!G7,'Stakeholder 5'!G7) -> #DIV/0! | H7: =AVERAGE('Stakeholder 1'!H7,'Stakeholder 2'!H7,'Stakeholder 3'!H7,'Stakeholder 4'!H7,'Stakeholder 5'!H7) -> #DIV/0!
A8: Testing Procedures | B8: Robust quality assurance and testing processes and procedures | C8: =AVERAGE('Stakeholder 1'!C8,'Stakeholder 2'!C8,'Stakeholder 3'!C8,'Stakeholder 4'!C8,'Stakeholder 5'!C8) -> #DIV/0! | D8: =AVERAGE('Stakeholder 1'!D8,'Stakeholder 2'!D8,'Stakeholder 3'!D8,'Stakeholder 4'!D8,'Stakeholder 5'!D8) -> #DIV/0! | E8: =AVERAGE('Stakeholder 1'!E8,'Stakeholder 2'!E8,'Stakeholder 3'!E8,'Stakeholder 4'!E8,'Stakeholder 5'!E8) -> #DIV/0! | F8: =AVERAGE('Stakeholder 1'!F8,'Stakeholder 2'!F8,'Stakeholder 3'!F8,'Stakeholder 4'!F8,'Stakeholder 5'!F8) -> #DIV/0! | G8: =AVERAGE('Stakeholder 1'!G8,'Stakeholder 2'!G8,'Stakeholder 3'!G8,'Stakeholder 4'!G8,'Stakeholder 5'!G8) -> #DIV/0! | H8: =AVERAGE('Stakeholder 1'!H8,'Stakeholder 2'!H8,'Stakeholder 3'!H8,'Stakeholder 4'!H8,'Stakeholder 5'!H8) -> #DIV/0!
A9: Team & Communication | B9: Clear team roles, client interaction model, partner mindset | C9: =AVERAGE('Stakeholder 1'!C9,'Stakeholder 2'!C9,'Stakeholder 3'!C9,'Stakeholder 4'!C9,'Stakeholder 5'!C9) -> #DIV/0! | D9: =AVERAGE('Stakeholder 1'!D9,'Stakeholder 2'!D9,'Stakeholder 3'!D9,'Stakeholder 4'!D9,'Stakeholder 5'!D9) -> #DIV/0! | E9: =AVERAGE('Stakeholder 1'!E9,'Stakeholder 2'!E9,'Stakeholder 3'!E9,'Stakeholder 4'!E9,'Stakeholder 5'!E9) -> #DIV/0! | F9: =AVERAGE('Stakeholder 1'!F9,'Stakeholder 2'!F9,'Stakeholder 3'!F9,'Stakeholder 4'!F9,'Stakeholder 5'!F9) -> #DIV/0! | G9: =AVERAGE('Stakeholder 1'!G9,'Stakeholder 2'!G9,'Stakeholder 3'!G9,'Stakeholder 4'!G9,'Stakeholder 5'!G9) -> #DIV/0! | H9: =AVERAGE('Stakeholder 1'!H9,'Stakeholder 2'!H9,'Stakeholder 3'!H9,'Stakeholder 4'!H9,'Stakeholder 5'!H9) -> #DIV/0!
A10: Timeline | B10: Realistic and aligned with internal capacity and key dates | C10: =AVERAGE('Stakeholder 1'!C10,'Stakeholder 2'!C10,'Stakeholder 3'!C10,'Stakeholder 4'!C10,'Stakeholder 5'!C10) -> #DIV/0! | D10: =AVERAGE('Stakeholder 1'!D10,'Stakeholder 2'!D10,'Stakeholder 3'!D10,'Stakeholder 4'!D10,'Stakeholder 5'!D10) -> #DIV/0! | E10: =AVERAGE('Stakeholder 1'!E10,'Stakeholder 2'!E10,'Stakeholder 3'!E10,'Stakeholder 4'!E10,'Stakeholder 5'!E10) -> #DIV/0! | F10: =AVERAGE('Stakeholder 1'!F10,'Stakeholder 2'!F10,'Stakeholder 3'!F10,'Stakeholder 4'!F10,'Stakeholder 5'!F10) -> #DIV/0! | G10: =AVERAGE('Stakeholder 1'!G10,'Stakeholder 2'!G10,'Stakeholder 3'!G10,'Stakeholder 4'!G10,'Stakeholder 5'!G10) -> #DIV/0! | H10: =AVERAGE('Stakeholder 1'!H10,'Stakeholder 2'!H10,'Stakeholder 3'!H10,'Stakeholder 4'!H10,'Stakeholder 5'!H10) -> #DIV/0!
A11: Cost & Value | B11: Alignment with budget and demonstrated ROI potential | C11: =AVERAGE('Stakeholder 1'!C11,'Stakeholder 2'!C11,'Stakeholder 3'!C11,'Stakeholder 4'!C11,'Stakeholder 5'!C11) -> #DIV/0! | D11: =AVERAGE('Stakeholder 1'!D11,'Stakeholder 2'!D11,'Stakeholder 3'!D11,'Stakeholder 4'!D11,'Stakeholder 5'!D11) -> #DIV/0! | E11: =AVERAGE('Stakeholder 1'!E11,'Stakeholder 2'!E11,'Stakeholder 3'!E11,'Stakeholder 4'!E11,'Stakeholder 5'!E11) -> #DIV/0! | F11: =AVERAGE('Stakeholder 1'!F11,'Stakeholder 2'!F11,'Stakeholder 3'!F11,'Stakeholder 4'!F11,'Stakeholder 5'!F11) -> #DIV/0! | G11: =AVERAGE('Stakeholder 1'!G11,'Stakeholder 2'!G11,'Stakeholder 3'!G11,'Stakeholder 4'!G11,'Stakeholder 5'!G11) -> #DIV/0! | H11: =AVERAGE('Stakeholder 1'!H11,'Stakeholder 2'!H11,'Stakeholder 3'!H11,'Stakeholder 4'!H11,'Stakeholder 5'!H11) -> #DIV/0!
A12: Post-Launch Support | B12: Hosting and production support, maintenance, future-phase planning, responsiveness, partner mindset | C12: =AVERAGE('Stakeholder 1'!C12,'Stakeholder 2'!C12,'Stakeholder 3'!C12,'Stakeholder 4'!C12,'Stakeholder 5'!C12) -> #DIV/0! | D12: =AVERAGE('Stakeholder 1'!D12,'Stakeholder 2'!D12,'Stakeholder 3'!D12,'Stakeholder 4'!D12,'Stakeholder 5'!D12) -> #DIV/0! | E12: =AVERAGE('Stakeholder 1'!E12,'Stakeholder 2'!E12,'Stakeholder 3'!E12,'Stakeholder 4'!E12,'Stakeholder 5'!E12) -> #DIV/0! | F12: =AVERAGE('Stakeholder 1'!F12,'Stakeholder 2'!F12,'Stakeholder 3'!F12,'Stakeholder 4'!F12,'Stakeholder 5'!F12) -> #DIV/0! | G12: =AVERAGE('Stakeholder 1'!G12,'Stakeholder 2'!G12,'Stakeholder 3'!G12,'Stakeholder 4'!G12,'Stakeholder 5'!G12) -> #DIV/0! | H12: =AVERAGE('Stakeholder 1'!H12,'Stakeholder 2'!H12,'Stakeholder 3'!H12,'Stakeholder 4'!H12,'Stakeholder 5'!H12) -> #DIV/0!
A13: Innovation & Flexibility | B13: Suggests unique, value-add ideas or phased approaches | C13: =AVERAGE('Stakeholder 1'!C13,'Stakeholder 2'!C13,'Stakeholder 3'!C13,'Stakeholder 4'!C13,'Stakeholder 5'!C13) -> #DIV/0! | D13: =AVERAGE('Stakeholder 1'!D13,'Stakeholder 2'!D13,'Stakeholder 3'!D13,'Stakeholder 4'!D13,'Stakeholder 5'!D13) -> #DIV/0! | E13: =AVERAGE('Stakeholder 1'!E13,'Stakeholder 2'!E13,'Stakeholder 3'!E13,'Stakeholder 4'!E13,'Stakeholder 5'!E13) -> #DIV/0! | F13: =AVERAGE('Stakeholder 1'!F13,'Stakeholder 2'!F13,'Stakeholder 3'!F13,'Stakeholder 4'!F13,'Stakeholder 5'!F13) -> #DIV/0! | G13: =AVERAGE('Stakeholder 1'!G13,'Stakeholder 2'!G13,'Stakeholder 3'!G13,'Stakeholder 4'!G13,'Stakeholder 5'!G13) -> #DIV/0! | H13: =AVERAGE('Stakeholder 1'!H13,'Stakeholder 2'!H13,'Stakeholder 3'!H13,'Stakeholder 4'!H13,'Stakeholder 5'!H13) -> #DIV/0!
B15: Total | C15: =SUM(C3:C13) -> #DIV/0! | D15: =SUM(D3:D13) -> #DIV/0! | E15: =SUM(E3:E13) -> #DIV/0! | F15: =SUM(F3:F13) -> #DIV/0! | G15: =SUM(G3:G13) -> #DIV/0! | H15: =SUM(H3:H13) -> #DIV/0!
B17: Grade | C17: =C15/55 -> #DIV/0! | D17: =D15/55 -> #DIV/0! | E17: =E15/55 -> #DIV/0! | F17: =F15/55 -> #DIV/0! | G17: =G15/55 -> #DIV/0! | H17: =H15/55 -> #DIV/0!

Sheet Stakeholder 1
C1: Score 1 - 5 (1 = does not meet expectations, 3 = meets expectations, 5 = exceeds expectations)
A2: Category | B2: Criteria | C2: =Total!C2 -> [COMPANY 1 NAME] | D2: =Total!D2 -> [COMPANY 2 NAME] | E2: =Total!E2 -> [COMPANY 3 NAME] | F2: =Total!F2 -> [COMPANY 4 NAME] | G2: =Total!G2 -> [COMPANY 5 NAME] | H2: =Total!H2 -> [COMPANY 6 NAME]
A3: =Total!A3 -> Understanding of Needs | B3: =Total!B3 -> Demonstrates clear grasp of project goals, challenges, and desired outcomes
A4: =Total!A4 -> Industry Experience | B4: =Total!B4 -> Proven success with associations and projects of similar scale
A5: =Total!A5 -> Strategic Approach | B5: =Total!B5 -> Insightful, tailored methodology; allows for collaboration and evolution
A6: =Total!A6 -> Design Expertise | B6: =Total!B6 -> Quality of design work, accessibility focus, usability process
A7: =Total!A7 -> Technical Expertise | B7: =Total!B7 -> CMS experience, integration knowledge (AMS, LMS, etc.), scalable solutions
A8: =Total!A8 -> Testing Procedures | B8: =Total!B8 -> Robust quality assurance and testing processes and procedures
A9: =Total!A9 -> Team & Communication | B9: =Total!B9 -> Clear team roles, client interaction model, partner mindset
A10: =Total!A10 -> Timeline | B10: =Total!B10 -> Realistic and aligned with internal capacity and key dates
A11: =Total!A11 -> Cost & Value | B11: =Total!B11 -> Alignment with budget and demonstrated ROI potential
A12: =Total!A12 -> Post-Launch Support | B12: =Total!B12 -> Hosting and production support, maintenance, future-phase planning, responsiveness, partner mindset
A13: =Total!A13 -> Innovation & Flexibility | B13: =Total!B13 -> Suggests unique, value-add ideas or phased approaches
B15: Total | C15: =SUM(C3:C13) -> 0 | D15: =SUM(D3:D13) -> 0 | E15: =SUM(E3:E13) -> 0 | F15: =SUM(F3:F13) -> 0 | G15: =SUM(G3:G13) -> 0 | H15: =SUM(H3:H13) -> 0
B17: Grade | C17: =C15/55 -> 0 | D17: =D15/55 -> 0 | E17: =E15/55 -> 0 | F17: =F15/55 -> 0 | G17: =G15/55 -> 0 | H17: =H15/55 -> 0

Sheet Stakeholder 2
C1: Score 1 - 5 (1 = does not meet expectations, 3 = meets expectations, 5 = exceeds expectations)
A2: Category | B2: Criteria | C2: =Total!C2 -> [COMPANY 1 NAME] | D2: =Total!D2 -> [COMPANY 2 NAME] | E2: =Total!E2 -> [COMPANY 3 NAME] | F2: =Total!F2 -> [COMPANY 4 NAME] | G2: =Total!G2 -> [COMPANY 5 NAME] | H2: =Total!H2 -> [COMPANY 6 NAME]
A3: =Total!A3 -> Understanding of Needs | B3: =Total!B3 -> Demonstrates clear grasp of project goals, challenges, and desired outcomes
A4: =Total!A4 -> Industry Experience | B4: =Total!B4 -> Proven success with associations and projects of similar scale
A5: =Total!A5 -> Strategic Approach | B5: =Total!B5 -> Insightful, tailored methodology; allows for collaboration and evolution
A6: =Total!A6 -> Design Expertise | B6: =Total!B6 -> Quality of design work, accessibility focus, usability process
A7: =Total!A7 -> Technical Expertise | B7: =Total!B7 -> CMS experience, integration knowledge (AMS, LMS, etc.), scalable solutions
A8: =Total!A8 -> Testing Procedures | B8: =Total!B8 -> Robust quality assurance and testing processes and procedures
A9: =Total!A9 -> Team & Communication | B9: =Total!B9 -> Clear team roles, client interaction model, partner mindset
A10: =Total!A10 -> Timeline | B10: =Total!B10 -> Realistic and aligned with internal capacity and key dates
A11: =Total!A11 -> Cost & Value | B11: =Total!B11 -> Alignment with budget and demonstrated ROI potential
A12: =Total!A12 -> Post-Launch Support | B12: =Total!B12 -> Hosting and production support, maintenance, future-phase planning, responsiveness, partner mindset
A13: =Total!A13 -> Innovation & Flexibility | B13: =Total!B13 -> Suggests unique, value-add ideas or phased approaches
B15: Total | C15: =SUM(C3:C13) -> 0 | D15: =SUM(D3:D13) -> 0 | E15: =SUM(E3:E13) -> 0 | F15: =SUM(F3:F13) -> 0 | G15: =SUM(G3:G13) -> 0 | H15: =SUM(H3:H13) -> 0
B17: Grade | C17: =C15/55 -> 0 | D17: =D15/55 -> 0 | E17: =E15/55 -> 0 | F17: =F15/55 -> 0 | G17: =G15/55 -> 0 | H17: =H15/55 -> 0

Sheet Stakeholder 3
C1: Score 1 - 5 (1 = does not meet expectations, 3 = meets expectations, 5 = exceeds expectations)
A2: Category | B2: Criteria | C2: =Total!C2 -> [COMPANY 1 NAME] | D2: =Total!D2 -> [COMPANY 2 NAME] | E2: =Total!E2 -> [COMPANY 3 NAME] | F2: =Total!F2 -> [COMPANY 4 NAME] | G2: =Total!G2 -> [COMPANY 5 NAME] | H2: =Total!H2 -> [COMPANY 6 NAME]
A3: =Total!A3 -> Understanding of Needs | B3: =Total!B3 -> Demonstrates clear grasp of project goals, challenges, and desired outcomes
A4: =Total!A4 -> Industry Experience | B4: =Total!B4 -> Proven success with associations and projects of similar scale
A5: =Total!A5 -> Strategic Approach | B5: =Total!B5 -> Insightful, tailored methodology; allows for collaboration and evolution
A6: =Total!A6 -> Design Expertise | B6: =Total!B6 -> Quality of design work, accessibility focus, usability process
A7: =Total!A7 -> Technical Expertise | B7: =Total!B7 -> CMS experience, integration knowledge (AMS, LMS, etc.), scalable solutions
A8: =Total!A8 -> Testing Procedures | B8: =Total!B8 -> Robust quality assurance and testing processes and procedures
A9: =Total!A9 -> Team & Communication | B9: =Total!B9 -> Clear team roles, client interaction model, partner mindset
A10: =Total!A10 -> Timeline | B10: =Total!B10 -> Realistic and aligned with internal capacity and key dates
A11: =Total!A11 -> Cost & Value | B11: =Total!B11 -> Alignment with budget and demonstrated ROI potential
A12: =Total!A12 -> Post-Launch Support | B12: =Total!B12 -> Hosting and production support, maintenance, future-phase planning, responsiveness, partner mindset
A13: =Total!A13 -> Innovation & Flexibility | B13: =Total!B13 -> Suggests unique, value-add ideas or phased approaches
B15: Total | C15: =SUM(C3:C13) -> 0 | D15: =SUM(D3:D13) -> 0 | E15: =SUM(E3:E13) -> 0 | F15: =SUM(F3:F13) -> 0 | G15: =SUM(G3:G13) -> 0 | H15: =SUM(H3:H13) -> 0
B17: Grade | C17: =C15/55 -> 0 | D17: =D15/55 -> 0 | E17: =E15/55 -> 0 | F17: =F15/55 -> 0 | G17: =G15/55 -> 0 | H17: =H15/55 -> 0

Sheet Stakeholder 4
C1: Score 1 - 5 (1 = does not meet expectations, 3 = meets expectations, 5 = exceeds expectations)
A2: Category | B2: Criteria | C2: =Total!C2 -> [COMPANY 1 NAME] | D2: =Total!D2 -> [COMPANY 2 NAME] | E2: =Total!E2 -> [COMPANY 3 NAME] | F2: =Total!F2 -> [COMPANY 4 NAME] | G2: =Total!G2 -> [COMPANY 5 NAME] | H2: =Total!H2 -> [COMPANY 6 NAME]
A3: =Total!A3 -> Understanding of Needs | B3: =Total!B3 -> Demonstrates clear grasp of project goals, challenges, and desired outcomes
A4: =Total!A4 -> Industry Experience | B4: =Total!B4 -> Proven success with associations and projects of similar scale
A5: =Total!A5 -> Strategic Approach | B5: =Total!B5 -> Insightful, tailored methodology; allows for collaboration and evolution
A6: =Total!A6 -> Design Expertise | B6: =Total!B6 -> Quality of design work, accessibility focus, usability process
A7: =Total!A7 -> Technical Expertise | B7: =Total!B7 -> CMS experience, integration knowledge (AMS, LMS, etc.), scalable solutions
A8: =Total!A8 -> Testing Procedures | B8: =Total!B8 -> Robust quality assurance and testing processes and procedures
A9: =Total!A9 -> Team & Communication | B9: =Total!B9 -> Clear team roles, client interaction model, partner mindset
A10: =Total!A10 -> Timeline | B10: =Total!B10 -> Realistic and aligned with internal capacity and key dates
A11: =Total!A11 -> Cost & Value | B11: =Total!B11 -> Alignment with budget and demonstrated ROI potential
A12: =Total!A12 -> Post-Launch Support | B12: =Total!B12 -> Hosting and production support, maintenance, future-phase planning, responsiveness, partner mindset
A13: =Total!A13 -> Innovation & Flexibility | B13: =Total!B13 -> Suggests unique, value-add ideas or phased approaches
B15: Total | C15: =SUM(C3:C13) -> 0 | D15: =SUM(D3:D13) -> 0 | E15: =SUM(E3:E13) -> 0 | F15: =SUM(F3:F13) -> 0 | G15: =SUM(G3:G13) -> 0 | H15: =SUM(H3:H13) -> 0
B17: Grade | C17: =C15/55 -> 0 | D17: =D15/55 -> 0 | E17: =E15/55 -> 0 | F17: =F15/55 -> 0 | G17: =G15/55 -> 0 | H17: =H15/55 -> 0

Sheet Stakeholder 5
C1: Score 1 - 5 (1 = does not meet expectations, 3 = meets expectations, 5 = exceeds expectations)
A2: Category | B2: Criteria | C2: =Total!C2 -> [COMPANY 1 NAME] | D2: =Total!D2 -> [COMPANY 2 NAME] | E2: =Total!E2 -> [COMPANY 3 NAME] | F2: =Total!F2 -> [COMPANY 4 NAME] | G2: =Total!G2 -> [COMPANY 5 NAME] | H2: =Total!H2 -> [COMPANY 6 NAME]
A3: =Total!A3 -> Understanding of Needs | B3: =Total!B3 -> Demonstrates clear grasp of project goals, challenges, and desired outcomes
A4: =Total!A4 -> Industry Experience | B4: =Total!B4 -> Proven success with associations and projects of similar scale
A5: =Total!A5 -> Strategic Approach | B5: =Total!B5 -> Insightful, tailored methodology; allows for collaboration and evolution
A6: =Total!A6 -> Design Expertise | B6: =Total!B6 -> Quality of design work, accessibility focus, usability process
A7: =Total!A7 -> Technical Expertise | B7: =Total!B7 -> CMS experience, integration knowledge (AMS, LMS, etc.), scalable solutions
A8: =Total!A8 -> Testing Procedures | B8: =Total!B8 -> Robust quality assurance and testing processes and procedures
A9: =Total!A9 -> Team & Communication | B9: =Total!B9 -> Clear team roles, client interaction model, partner mindset
A10: =Total!A10 -> Timeline | B10: =Total!B10 -> Realistic and aligned with internal capacity and key dates
A11: =Total!A11 -> Cost & Value | B11: =Total!B11 -> Alignment with budget and demonstrated ROI potential
A12: =Total!A12 -> Post-Launch Support | B12: =Total!B12 -> Hosting and production support, maintenance, future-phase planning, responsiveness, partner mindset
A13: =Total!A13 -> Innovation & Flexibility | B13: =Total!B13 -> Suggests unique, value-add ideas or phased approaches
B15: Total | C15: =SUM(C3:C13) -> 0 | D15: =SUM(D3:D13) -> 0 | E15: =SUM(E3:E13) -> 0 | F15: =SUM(F3:F13) -> 0 | G15: =SUM(G3:G13) -> 0 | H15: =SUM(H3:H13) -> 0
B17: Grade | C17: =C15/55 -> 0 | D17: =D15/55 -> 0 | E17: =E15/55 -> 0 | F17: =F15/55 -> 0 | G17: =G15/55 -> 0 | H17: =H15/55 -> 0
